BEGIN:VCALENDAR
VERSION:2.0
PRODID:Events Booking
BEGIN:VEVENT
UID:69e735579ddb2
SUMMARY:CAPM Credential Study Group (6/7/25 - 6/28/25) 
DESCRIPTION:The study group is free for PMI Phoenix members seeking their C
 ertified Associate in Project Management (CAPM). If you are not a member\,
  participating in this series will cost $50. Please note that if you are a
 n existing PMI member but not affiliated with the PMI Phoenix Chapter\, yo
 u can join here for the chapter rate of $40.
DTSTART:20250607T160000Z
DTEND:20250628T183000Z
DTSTAMP:20231208T112201Z
ORGANIZER;CN=PMI Arizona Chapter:MAILTO:info@pmiaz.org
END:VEVENT
END:VCALENDAR