BEGIN:VCALENDAR
VERSION:2.0
PRODID:Events Booking
BEGIN:VEVENT
UID:69ea3e76158c3
SUMMARY:Resume Clinic
DESCRIPTION:&nbsp\;Participants have the opportunity to bring his/her resum
 e for review. Small group allows for optimal learning of techniques and be
 st practices. Review of applicant tracking system formatting and keyword-r
 ich accomplishment-focused content for best results.
 &nbsp\;
 Cynthia M
 aria Estalilla is the founder and owner of CME Beyond Career Success\, LLC
  ​
 with more than 30 years’ experience working in small\, mid to glo
 bal\, brand-name organizations to include financial services\, apparel\, h
 ospitality\, and technology and talent consulting with roles in human reso
 urces\, client service management and career services. ​
 ​
 Cynthia
  holds a Bachelor of Science in Management from Golden Gate University in 
 ​
 San Francisco. She is a Certified Professional Career Coach\, Digita
 l Branding Strategist\, Certified Associate in Project Management (CAPM)®
 \, and a Certified DISCstyles™ Communications Consultant. Cynthia has ea
 rned the distinction of being recognized as a global Career Industry Autho
 rity by Career Thought Leaders/Resume Writing Academy. ​
 ​
 A caree
 r service provider and entrepreneur\, Cynthia has a relentless focus on de
 livering life-changing client experiences to mid-career professionals prov
 iding coaching for clarity and career transition\, consulting on creating 
 personally-branded career marketing materials and designing career search 
 strategies. ​
 ​
 Cynthia is a member of the Project Management Inst
 itute San Francisco Bay Area Chapter\, a Career Coach partner to the commu
 nity\, conducting résumé writing\, LinkedIn\, and interview clinics thro
 ugh the chapter’s mentorship program\, career building track. ​
 ​
 
 On a personal note\, she loves cooking\, watching sports\, reading\, boa
 ting\, and traveling with her significant other and is a proud mother of h
 er only son. ​
DTSTART:20250328T010000Z
DTEND:20250328T020000Z
DTSTAMP:20250326T232750Z
ORGANIZER;CN=PMI Arizona Chapter:MAILTO:info@pmiaz.org
END:VEVENT
END:VCALENDAR