BEGIN:VCALENDAR
VERSION:2.0
PRODID:Events Booking
BEGIN:VEVENT
UID:69e5e26606628
SUMMARY:November Breakfast Meeting
DESCRIPTION:Join us for an engaging session on Business Acumen and Decision
  Performance. Our speaker will guide us through an interactive program des
 igned to explore the value of measuring decision performance and its impac
 t on day-to-day decision-making
DTSTART:20241115T143000Z
DTEND:20241115T153000Z
DTSTAMP:20231126T231918Z
ORGANIZER;CN=PMI Arizona Chapter:MAILTO:info@pmiaz.org
END:VEVENT
END:VCALENDAR