BEGIN:VCALENDAR
VERSION:2.0
PRODID:Events Booking
BEGIN:VEVENT
UID:69ea3dc03bb50
SUMMARY:PMI Phoenix Fusion - September 2025
DESCRIPTION:Reconnect with Phoenix Valley's vibrant project management comm
 unity! The PMI Phoenix chapter warmly invites you to our monthly in-person
  networking nights. Experience a lively evening of interactions in differe
 nt locales\, designed for those who've recently joined\, those who've been
  with us\, and those curious about our community.
 
 Date: September 18
 
 Location: Floridino’s 590 N Alma School Rd UNIT 35\, Chandler\, AZ 852
 24
 Capacity: 60
 Individual Price:&nbsp\;$10/member\; $25 non-member
 
LOCATION:590 N Alma School Rd UNIT 35\, Chandler\, AZ 85224
DTSTART:20250919T000000Z
DTEND:20250919T030000Z
DTSTAMP:20250109T105230Z
ORGANIZER;CN=PMI Arizona Chapter:MAILTO:info@pmiaz.org
END:VEVENT
END:VCALENDAR