BEGIN:VCALENDAR
VERSION:2.0
PRODID:Events Booking
BEGIN:VEVENT
UID:69ea392b40334
SUMMARY:ProjectMasters - Toastmasters
DESCRIPTION:Meeting Synopsis: Toastmasters International is a non-profit or
 ganization founded in 1924\, which has grown to over 357\,000 members in 1
 6\,600 clubs in 143 countries. In 2006\, the Phoenix Chapter of PMI sponso
 red the chartering of ProjectMasters Toastmasters Club\, an “open” clu
 b where both PMI members and the general public are welcome.
DTSTART:20230426T005000Z
DTEND:20230426T023000Z
DTSTAMP:20231105T230504Z
ORGANIZER;CN=PMI Arizona Chapter:MAILTO:info@pmiaz.org
END:VEVENT
END:VCALENDAR