BEGIN:VCALENDAR
VERSION:2.0
PRODID:Events Booking
BEGIN:VEVENT
UID:69e5b0bd20466
SUMMARY:Multichapter Virtual Event - THRIVE: Creating Your Human Mind File-
 Reclaiming YOU in the Age of AI\, feat. Dr. DeMario McIlwain
DESCRIPTION:In this engaging session\, Dr. DeMario McIlwain introduces the 
 THRIVE Framework — a step-by-step blueprint for balancing human cognitio
 n with machine intelligence — and will introduce us to the concept of ou
 r “Human Mind File.”
DTSTART:20260423T230000Z
DTEND:20260424T000000Z
DTSTAMP:20260217T031817Z
ORGANIZER;CN=PMI Arizona Chapter:MAILTO:info@pmiaz.org
END:VEVENT
END:VCALENDAR