BEGIN:VCALENDAR
VERSION:2.0
PRODID:Events Booking
BEGIN:VEVENT
UID:69e5df9881ddb
SUMMARY:Arizona Chapter Town Hall
DESCRIPTION:We are initiating the&nbsp\;formation of a unified PMI Arizona 
 Chapter—a strategic collaboration between the&nbsp\;PMI Phoenix and&nbsp
 \;PMI Tucson Chapters&nbsp\;to create one strong\, statewide organization.
  This is more than a structural change\; it is a vision to&nbsp\;amplify o
 ur collective voice\, better serve our members\, and deliver even greater 
 value to professionals across Arizona.
DTSTART:20250516T010000Z
DTEND:20250516T020000Z
DTSTAMP:20250502T014352Z
ORGANIZER;CN=PMI Arizona Chapter:MAILTO:info@pmiaz.org
END:VEVENT
END:VCALENDAR