BEGIN:VCALENDAR
VERSION:2.0
PRODID:Events Booking
BEGIN:VEVENT
UID:69e5c3aab51e2
SUMMARY:Board of Directors Meeting via MS Teams
DESCRIPTION:Monthly Board of Directors Meeting
DTSTART:20261229T010000Z
DTEND:20261229T030000Z
DTSTAMP:20260112T064543Z
ORGANIZER;CN=PMI Arizona Chapter:MAILTO:info@pmiaz.org
END:VEVENT
END:VCALENDAR