BEGIN:VCALENDAR
VERSION:2.0
PRODID:Events Booking
BEGIN:VEVENT
UID:69e5af4ecfa18
SUMMARY:PMI-ACP Credential Study Group (2/21/26-3/28/26)
DESCRIPTION:The study group is free for PMI Arizona members seeking their P
 MI-ACP. If you are not a member\, participating in this series will cost $
 50. Please note that if you are an existing PMI member but not affiliated 
 with the PMI Arizona Chapter\, you can join here for the chapter rate of $
 40.
DTSTART:20260321T160000Z
DTEND:20260321T183000Z
DTSTAMP:20251217T052058Z
ORGANIZER:MAILTO:PMI Arizona Chapter
END:VEVENT
BEGIN:VEVENT
UID:69e5af4ecfaa5
SUMMARY:PMI-ACP Credential Study Group (2/21/26-3/28/26)
DESCRIPTION:The study group is free for PMI Arizona members seeking their P
 MI-ACP. If you are not a member\, participating in this series will cost $
 50. Please note that if you are an existing PMI member but not affiliated 
 with the PMI Arizona Chapter\, you can join here for the chapter rate of $
 40.
DTSTART:20260328T160000Z
DTEND:20260328T183000Z
DTSTAMP:20251217T052058Z
ORGANIZER:MAILTO:PMI Arizona Chapter
END:VEVENT
BEGIN:VEVENT
UID:69e5af4ecfad9
SUMMARY:PMP Credential Study Group (4/18/26 - 5/30/26)
DESCRIPTION:Join the PMP Credential Study Group starting April 18 through M
 ay 30! Whether you’re a PMI Arizona member (free) or a non-member (just 
 $50)\, this virtual series of 7 Saturday-morning sessions will guide you t
 hrough the PMP Exam Prep (11th Edition). Led by certified facilitators\, t
 he group includes live Zoom sessions\, a Teams channel for peer support\, 
 and structured weekly topics—from exam tricks and leadership skills to r
 isk management and agile methodologies—designed to help you pass the PMP
  on your first try.
DTSTART:20260418T160000Z
DTEND:20260418T183000Z
DTSTAMP:20251217T055818Z
ORGANIZER:MAILTO:PMI Arizona Chapter
END:VEVENT
BEGIN:VEVENT
UID:69e5af4ecfb0f
SUMMARY:PMP Credential Study Group (4/18/26 - 5/30/26)
DESCRIPTION:Join the PMP Credential Study Group starting April 18 through M
 ay 30! Whether you’re a PMI Arizona member (free) or a non-member (just 
 $50)\, this virtual series of 7 Saturday-morning sessions will guide you t
 hrough the PMP Exam Prep (11th Edition). Led by certified facilitators\, t
 he group includes live Zoom sessions\, a Teams channel for peer support\, 
 and structured weekly topics—from exam tricks and leadership skills to r
 isk management and agile methodologies—designed to help you pass the PMP
  on your first try.
DTSTART:20260425T160000Z
DTEND:20260425T183000Z
DTSTAMP:20251217T055818Z
ORGANIZER:MAILTO:PMI Arizona Chapter
END:VEVENT
BEGIN:VEVENT
UID:69e5af4ecfb3d
SUMMARY:PMP Credential Study Group (4/18/26 - 5/30/26)
DESCRIPTION:Join the PMP Credential Study Group starting April 18 through M
 ay 30! Whether you’re a PMI Arizona member (free) or a non-member (just 
 $50)\, this virtual series of 7 Saturday-morning sessions will guide you t
 hrough the PMP Exam Prep (11th Edition). Led by certified facilitators\, t
 he group includes live Zoom sessions\, a Teams channel for peer support\, 
 and structured weekly topics—from exam tricks and leadership skills to r
 isk management and agile methodologies—designed to help you pass the PMP
  on your first try.
DTSTART:20260502T160000Z
DTEND:20260502T183000Z
DTSTAMP:20251217T055818Z
ORGANIZER:MAILTO:PMI Arizona Chapter
END:VEVENT
BEGIN:VEVENT
UID:69e5af4ecfb69
SUMMARY:PMP Credential Study Group (4/18/26 - 5/30/26)
DESCRIPTION:Join the PMP Credential Study Group starting April 18 through M
 ay 30! Whether you’re a PMI Arizona member (free) or a non-member (just 
 $50)\, this virtual series of 7 Saturday-morning sessions will guide you t
 hrough the PMP Exam Prep (11th Edition). Led by certified facilitators\, t
 he group includes live Zoom sessions\, a Teams channel for peer support\, 
 and structured weekly topics—from exam tricks and leadership skills to r
 isk management and agile methodologies—designed to help you pass the PMP
  on your first try.
DTSTART:20260509T160000Z
DTEND:20260509T183000Z
DTSTAMP:20251217T055818Z
ORGANIZER:MAILTO:PMI Arizona Chapter
END:VEVENT
BEGIN:VEVENT
UID:69e5af4ecfb9c
SUMMARY:PMP Credential Study Group (4/18/26 - 5/30/26)
DESCRIPTION:Join the PMP Credential Study Group starting April 18 through M
 ay 30! Whether you’re a PMI Arizona member (free) or a non-member (just 
 $50)\, this virtual series of 7 Saturday-morning sessions will guide you t
 hrough the PMP Exam Prep (11th Edition). Led by certified facilitators\, t
 he group includes live Zoom sessions\, a Teams channel for peer support\, 
 and structured weekly topics—from exam tricks and leadership skills to r
 isk management and agile methodologies—designed to help you pass the PMP
  on your first try.
DTSTART:20260516T160000Z
DTEND:20260516T183000Z
DTSTAMP:20251217T055818Z
ORGANIZER:MAILTO:PMI Arizona Chapter
END:VEVENT
BEGIN:VEVENT
UID:69e5af4ecfbcc
SUMMARY:PMP Credential Study Group (4/18/26 - 5/30/26)
DESCRIPTION:Join the PMP Credential Study Group starting April 18 through M
 ay 30! Whether you’re a PMI Arizona member (free) or a non-member (just 
 $50)\, this virtual series of 7 Saturday-morning sessions will guide you t
 hrough the PMP Exam Prep (11th Edition). Led by certified facilitators\, t
 he group includes live Zoom sessions\, a Teams channel for peer support\, 
 and structured weekly topics—from exam tricks and leadership skills to r
 isk management and agile methodologies—designed to help you pass the PMP
  on your first try.
DTSTART:20260523T160000Z
DTEND:20260523T183000Z
DTSTAMP:20251217T055818Z
ORGANIZER:MAILTO:PMI Arizona Chapter
END:VEVENT
BEGIN:VEVENT
UID:69e5af4ecfbf9
SUMMARY:PMP Credential Study Group (4/18/26 - 5/30/26)
DESCRIPTION:Join the PMP Credential Study Group starting April 18 through M
 ay 30! Whether you’re a PMI Arizona member (free) or a non-member (just 
 $50)\, this virtual series of 7 Saturday-morning sessions will guide you t
 hrough the PMP Exam Prep (11th Edition). Led by certified facilitators\, t
 he group includes live Zoom sessions\, a Teams channel for peer support\, 
 and structured weekly topics—from exam tricks and leadership skills to r
 isk management and agile methodologies—designed to help you pass the PMP
  on your first try.
DTSTART:20260530T160000Z
DTEND:20260530T183000Z
DTSTAMP:20251217T055818Z
ORGANIZER:MAILTO:PMI Arizona Chapter
END:VEVENT
BEGIN:VEVENT
UID:69e5af4ecfc27
SUMMARY:CAPM Credential Study Group (6/6/26-6/27/26)
DESCRIPTION:The study group is free for PMI Arizona members seeking their C
 ertified Associate in Project Management (CAPM). If you are not a member\,
  participating in this series will cost $50. Please note that if you are a
 n existing PMI member but not affiliated with the PMI Arizona Chapter\, yo
 u can join here for the chapter rate of $35.&nbsp\;
DTSTART:20260606T160000Z
DTEND:20260606T183000Z
DTSTAMP:20251217T050853Z
ORGANIZER:MAILTO:PMI Arizona Chapter
END:VEVENT
BEGIN:VEVENT
UID:69e5af4ecfc5f
SUMMARY:CAPM Credential Study Group (6/6/26-6/27/26)
DESCRIPTION:The study group is free for PMI Arizona members seeking their C
 ertified Associate in Project Management (CAPM). If you are not a member\,
  participating in this series will cost $50. Please note that if you are a
 n existing PMI member but not affiliated with the PMI Arizona Chapter\, yo
 u can join here for the chapter rate of $35.&nbsp\;
DTSTART:20260613T160000Z
DTEND:20260613T183000Z
DTSTAMP:20251217T050853Z
ORGANIZER:MAILTO:PMI Arizona Chapter
END:VEVENT
BEGIN:VEVENT
UID:69e5af4ecfc95
SUMMARY:CAPM Credential Study Group (6/6/26-6/27/26)
DESCRIPTION:The study group is free for PMI Arizona members seeking their C
 ertified Associate in Project Management (CAPM). If you are not a member\,
  participating in this series will cost $50. Please note that if you are a
 n existing PMI member but not affiliated with the PMI Arizona Chapter\, yo
 u can join here for the chapter rate of $35.&nbsp\;
DTSTART:20260620T160000Z
DTEND:20260620T183000Z
DTSTAMP:20251217T050853Z
ORGANIZER:MAILTO:PMI Arizona Chapter
END:VEVENT
BEGIN:VEVENT
UID:69e5af4ecfcc6
SUMMARY:CAPM Credential Study Group (6/6/26-6/27/26)
DESCRIPTION:The study group is free for PMI Arizona members seeking their C
 ertified Associate in Project Management (CAPM). If you are not a member\,
  participating in this series will cost $50. Please note that if you are a
 n existing PMI member but not affiliated with the PMI Arizona Chapter\, yo
 u can join here for the chapter rate of $35.&nbsp\;
DTSTART:20260627T160000Z
DTEND:20260627T183000Z
DTSTAMP:20251217T050853Z
ORGANIZER:MAILTO:PMI Arizona Chapter
END:VEVENT
BEGIN:VEVENT
UID:69e5af4ecfcfc
SUMMARY:PMP Credential Study Group (9/19/26 - 10/31/26)
DESCRIPTION:Join the PMP Credential Study Group starting September 19 throu
 gh October 31! Whether you’re a PMI Arizona member (free) or a non-membe
 r (just $50)\, this virtual series of 7 Saturday-morning sessions will gui
 de you through the PMP Exam Prep (11th Edition). Led by certified facilita
 tors\, the group includes live Zoom sessions\, a Teams channel for peer su
 pport\, and structured weekly topics—from exam tricks and leadership ski
 lls to risk management and agile methodologies—designed to help you pass
  the PMP on your first try.
DTSTART:20260919T160000Z
DTEND:20260919T183000Z
DTSTAMP:20251217T060857Z
ORGANIZER:MAILTO:PMI Arizona Chapter
END:VEVENT
BEGIN:VEVENT
UID:69e5af4ecfd31
SUMMARY:PMP Credential Study Group (9/19/26 - 10/31/26)
DESCRIPTION:Join the PMP Credential Study Group starting September 19 throu
 gh October 31! Whether you’re a PMI Arizona member (free) or a non-membe
 r (just $50)\, this virtual series of 7 Saturday-morning sessions will gui
 de you through the PMP Exam Prep (11th Edition). Led by certified facilita
 tors\, the group includes live Zoom sessions\, a Teams channel for peer su
 pport\, and structured weekly topics—from exam tricks and leadership ski
 lls to risk management and agile methodologies—designed to help you pass
  the PMP on your first try.
DTSTART:20260926T160000Z
DTEND:20260926T183000Z
DTSTAMP:20251217T060857Z
ORGANIZER:MAILTO:PMI Arizona Chapter
END:VEVENT
BEGIN:VEVENT
UID:69e5af4ecfd5e
SUMMARY:PMP Credential Study Group (9/19/26 - 10/31/26)
DESCRIPTION:Join the PMP Credential Study Group starting September 19 throu
 gh October 31! Whether you’re a PMI Arizona member (free) or a non-membe
 r (just $50)\, this virtual series of 7 Saturday-morning sessions will gui
 de you through the PMP Exam Prep (11th Edition). Led by certified facilita
 tors\, the group includes live Zoom sessions\, a Teams channel for peer su
 pport\, and structured weekly topics—from exam tricks and leadership ski
 lls to risk management and agile methodologies—designed to help you pass
  the PMP on your first try.
DTSTART:20261003T160000Z
DTEND:20261003T183000Z
DTSTAMP:20251217T060857Z
ORGANIZER:MAILTO:PMI Arizona Chapter
END:VEVENT
BEGIN:VEVENT
UID:69e5af4ecfd8b
SUMMARY:PMP Credential Study Group (9/19/26 - 10/31/26)
DESCRIPTION:Join the PMP Credential Study Group starting September 19 throu
 gh October 31! Whether you’re a PMI Arizona member (free) or a non-membe
 r (just $50)\, this virtual series of 7 Saturday-morning sessions will gui
 de you through the PMP Exam Prep (11th Edition). Led by certified facilita
 tors\, the group includes live Zoom sessions\, a Teams channel for peer su
 pport\, and structured weekly topics—from exam tricks and leadership ski
 lls to risk management and agile methodologies—designed to help you pass
  the PMP on your first try.
DTSTART:20261010T160000Z
DTEND:20261010T183000Z
DTSTAMP:20251217T060857Z
ORGANIZER:MAILTO:PMI Arizona Chapter
END:VEVENT
BEGIN:VEVENT
UID:69e5af4ecfdb8
SUMMARY:PMP Credential Study Group (9/19/26 - 10/31/26)
DESCRIPTION:Join the PMP Credential Study Group starting September 19 throu
 gh October 31! Whether you’re a PMI Arizona member (free) or a non-membe
 r (just $50)\, this virtual series of 7 Saturday-morning sessions will gui
 de you through the PMP Exam Prep (11th Edition). Led by certified facilita
 tors\, the group includes live Zoom sessions\, a Teams channel for peer su
 pport\, and structured weekly topics—from exam tricks and leadership ski
 lls to risk management and agile methodologies—designed to help you pass
  the PMP on your first try.
DTSTART:20261017T160000Z
DTEND:20261017T183000Z
DTSTAMP:20251217T060857Z
ORGANIZER:MAILTO:PMI Arizona Chapter
END:VEVENT
BEGIN:VEVENT
UID:69e5af4ecfde4
SUMMARY:PMP Credential Study Group (9/19/26 - 10/31/26)
DESCRIPTION:Join the PMP Credential Study Group starting September 19 throu
 gh October 31! Whether you’re a PMI Arizona member (free) or a non-membe
 r (just $50)\, this virtual series of 7 Saturday-morning sessions will gui
 de you through the PMP Exam Prep (11th Edition). Led by certified facilita
 tors\, the group includes live Zoom sessions\, a Teams channel for peer su
 pport\, and structured weekly topics—from exam tricks and leadership ski
 lls to risk management and agile methodologies—designed to help you pass
  the PMP on your first try.
DTSTART:20261024T160000Z
DTEND:20261024T183000Z
DTSTAMP:20251217T060857Z
ORGANIZER:MAILTO:PMI Arizona Chapter
END:VEVENT
BEGIN:VEVENT
UID:69e5af4ecfe11
SUMMARY:PMP Credential Study Group (9/19/26 - 10/31/26)
DESCRIPTION:Join the PMP Credential Study Group starting September 19 throu
 gh October 31! Whether you’re a PMI Arizona member (free) or a non-membe
 r (just $50)\, this virtual series of 7 Saturday-morning sessions will gui
 de you through the PMP Exam Prep (11th Edition). Led by certified facilita
 tors\, the group includes live Zoom sessions\, a Teams channel for peer su
 pport\, and structured weekly topics—from exam tricks and leadership ski
 lls to risk management and agile methodologies—designed to help you pass
  the PMP on your first try.
DTSTART:20261031T160000Z
DTEND:20261031T183000Z
DTSTAMP:20251217T060857Z
ORGANIZER:MAILTO:PMI Arizona Chapter
END:VEVENT
END:VCALENDAR