BEGIN:VCALENDAR
VERSION:2.0
PRODID:Events Booking
BEGIN:VEVENT
UID:69ea368f2c8d1
SUMMARY:Discover the Power of Acknowledgement: Transform Your Leadership in
  90 Minutes!
DESCRIPTION:Leadership starts with gratitude. Learn the Power of Acknowledg
 ment at our Grateful Leadership Seminar to learn&nbsp\;how acknowledgment 
 can transform relationships and boost engagement and gain&nbsp\;practical 
 insights to improve collaboration and trust.
 
 
 
 
 
 
 
 
 
 
 
 
 
 
LOCATION:550 E Tyler Mall\, Tempe\, AZ 85287
DTSTART:20260327T010000Z
DTEND:20260327T023000Z
DTSTAMP:20260214T013616Z
ORGANIZER;CN=PMI Arizona Chapter:MAILTO:info@pmiaz.org
GEO:33.36468;-111.88812
X-APPLE-STRUCTURED-LOCATION;VALUE=URI;X-ADDRESS=550 E Tyler Mall\, Tempe\, 
 AZ 85287;X-APPLE-RADIUS=72;X-TITLE=ASU\, Bateman Physical Sciences Center 
 H Wing Room 153:33.36468;-111.88812
END:VEVENT
END:VCALENDAR