BEGIN:VCALENDAR
VERSION:2.0
PRODID:Events Booking
BEGIN:VEVENT
UID:69ed61b0cbeaa
SUMMARY:Virtual: LinkedIn Profile Clinic
DESCRIPTION:A strong LinkedIn profile enhances your professional credibilit
 y and makes you more discoverable to recruiters and industry professionals
 . It serves as a personal branding tool\, showcasing your skills\, accompl
 ishments\, and career journey to a global audience. Join Cynthia for this 
 hands-on review of an optimized LinkedIn profile to give you inspiration f
 or creating a profile that will increase your visibility in search results
 \, improve your chances of landing new job opportunities\, encourage other
 s to reach out and connect with you and expand your networks.&nbsp\;
DTSTART:20260429T010000Z
DTEND:20260429T020000Z
DTSTAMP:20260217T034011Z
ORGANIZER:MAILTO:PMI Arizona Chapter
END:VEVENT
BEGIN:VEVENT
UID:69ed61b0cbf75
SUMMARY:Virtual: Resume Clinic
DESCRIPTION:Join the&nbsp\;Resume Clinic\, a 60-minute interactive session 
 designed to help you optimize your profile and strengthen yrou resume for 
 today's competitive job market.&nbsp\; Led by&nbsp\;Cynthia Maria Estalill
 a\, a Certified Professional Career Coach and Digital Branding Strategist\
 , will do a hands-on review of your resume\, offer actionable recommendati
 ons to align with applicant tracking systems (ATS)\, and share best practi
 ces for effectively highlighting your skills and accomplishments.&nbsp\;Re
 serve your spot today!
DTSTART:20260513T010000Z
DTEND:20260513T020000Z
DTSTAMP:20260217T004950Z
ORGANIZER:MAILTO:PMI Arizona Chapter
END:VEVENT
BEGIN:VEVENT
UID:69ed61b0cbfb3
SUMMARY:Virtual: Mock Interview Clinic 
DESCRIPTION:Join the&nbsp\;Mock Interviews Clinic\, a 30-minute interactive
  session where you will practice interviws with a career coach where you w
 ill receive tailored feedback to refine your responses and highlight your 
 strengths effectively. Spend 1:1 time with&nbsp\;Cynthia Maria Estalilla\,
  a Certified Professional Career Coach and Digital Branding Strategist\,ge
 tting your questions answered about various interview techniques and best 
 practices or practice answering some common and challenging interview ques
 tions.&nbsp\; &nbsp\;Reserve your spot today!
DTSTART:20260520T010000Z
DTEND:20260520T020000Z
DTSTAMP:20260217T035611Z
ORGANIZER:MAILTO:PMI Arizona Chapter
END:VEVENT
BEGIN:VEVENT
UID:69ed61b0cbfed
SUMMARY:Virtual: LinkedIn Profile Clinic
DESCRIPTION:A strong LinkedIn profile enhances your professional credibilit
 y and makes you more discoverable to recruiters and industry professionals
 . It serves as a personal branding tool\, showcasing your skills\, accompl
 ishments\, and career journey to a global audience. Join Cynthia for this 
 hands-on review of an optimized LinkedIn profile to give you inspiration f
 or creating a profile that will increase your visibility in search results
 \, improve your chances of landing new job opportunities\, encourage other
 s to reach out and connect with you and expand your networks.
DTSTART:20260528T010000Z
DTEND:20260528T020000Z
DTSTAMP:20260217T034335Z
ORGANIZER:MAILTO:PMI Arizona Chapter
END:VEVENT
BEGIN:VEVENT
UID:69ed61b0cc025
SUMMARY:Virtual: Resume Clinic
DESCRIPTION:Join the&nbsp\;Resume Clinic\, a 60-minute interactive session 
 designed to help you optimize your profile and strengthen yrou resume for 
 today's competitive job market.&nbsp\; Led by&nbsp\;Cynthia Maria Estalill
 a\, a Certified Professional Career Coach and Digital Branding Strategist\
 , will do a hands-on review of your resume\, offer actionable recommendati
 ons to align with applicant tracking systems (ATS)\, and share best practi
 ces for effectively highlighting your skills and accomplishments.&nbsp\;Re
 serve your spot today!
DTSTART:20260610T010000Z
DTEND:20260610T020000Z
DTSTAMP:20260217T010138Z
ORGANIZER:MAILTO:PMI Arizona Chapter
END:VEVENT
BEGIN:VEVENT
UID:69ed61b0cc05d
SUMMARY:Mentorship Program Mentee Payment Link (Cohort 7)
DESCRIPTION:Mentorship Program Payment for Mentee ONLY&nbsp\;
DTSTART:20260616T010000Z
DTEND:20261121T030000Z
DTSTAMP:20260426T024848Z
ORGANIZER:MAILTO:PMI Arizona Chapter
END:VEVENT
BEGIN:VEVENT
UID:69ed61b0cc094
SUMMARY:Virtual: Mock Interview Clinic 
DESCRIPTION:Join the&nbsp\;Mock Interviews Clinic\, a 30-minute interactive
  session where you will practice interviws with a career coach where you w
 ill receive tailored feedback to refine your responses and highlight your 
 strengths effectively. Spend 1:1 time with&nbsp\;Cynthia Maria Estalilla\,
  a Certified Professional Career Coach and Digital Branding Strategist\,ge
 tting your questions answered about various interview techniques and best 
 practices or practice answering some common and challenging interview ques
 tions.&nbsp\; &nbsp\;Reserve your spot today!
DTSTART:20260617T010000Z
DTEND:20260617T020000Z
DTSTAMP:20260217T035906Z
ORGANIZER:MAILTO:PMI Arizona Chapter
END:VEVENT
BEGIN:VEVENT
UID:69ed61b0cc101
SUMMARY:Virtual: LinkedIn Profile Clinic
DESCRIPTION:A strong LinkedIn profile enhances your professional credibilit
 y and makes you more discoverable to recruiters and industry professionals
 . It serves as a personal branding tool\, showcasing your skills\, accompl
 ishments\, and career journey to a global audience. Join Cynthia for this 
 hands-on review of an optimized LinkedIn profile to give you inspiration f
 or creating a profile that will increase your visibility in search results
 \, improve your chances of landing new job opportunities\, encourage other
 s to reach out and connect with you and expand your networks.
DTSTART:20260624T010000Z
DTEND:20260624T020000Z
DTSTAMP:20260217T034635Z
ORGANIZER:MAILTO:PMI Arizona Chapter
END:VEVENT
END:VCALENDAR