BEGIN:VCALENDAR
VERSION:2.0
PRODID:Events Booking
BEGIN:VEVENT
UID:69e5aeeb298a8
SUMMARY:Multi-Chapter | Agentic AI for Enterprise Planning
DESCRIPTION:As organizations enter this new era\, traditional planning mode
 ls built for&nbsp\;predictable technology adoption cycles are breaking dow
 n\, redefining how strategy becomes execution.&nbsp\;Enterprises now face 
 an emerging Agentic AI “Red Pill / Blue Pill” moment: proactively rede
 sign enterprise planning to harness AI-driven leverage – or risk falling
  behind competitors operating with fundamentally greater speed\, adaptabil
 ity\, and execution power.
DTSTART:20260507T000000Z
DTEND:20260507T010000Z
DTSTAMP:20260414T061531Z
ORGANIZER;CN=PMI Arizona Chapter:MAILTO:info@pmiaz.org
END:VEVENT
END:VCALENDAR