BEGIN:VCALENDAR
VERSION:2.0
PRODID:Events Booking
BEGIN:VEVENT
UID:69e5af0b07ac3
SUMMARY:Multi-Chapter | The Boardroom Baddie’s Guide to Radical Motherhoo
 d & Career Excellence
DESCRIPTION:For decades\, women in leadership have been told they can \"hav
 e it all\,\" yet the \"mental load\" of motherhood often remains an invisi
 ble\, unmanaged project. As Mother's Day approaches\, we are shattering th
 e myth that career ambition and devoted motherhood are at odds. Being a \"
 Boardroom Baddie\" doesn't make you a bad mom—it makes you a strategic p
 owerhouse who models excellence\, resilience\, and boundaries for the next
  generation.
DTSTART:20260508T230000Z
DTEND:20260509T000000Z
DTSTAMP:20260414T062547Z
ORGANIZER;CN=PMI Arizona Chapter:MAILTO:info@pmiaz.org
END:VEVENT
END:VCALENDAR