BEGIN:VCALENDAR
VERSION:2.0
PRODID:Events Booking
BEGIN:VEVENT
UID:69e5c31b3f866
SUMMARY:Operations Meeting (Board and Operations Team Members) via MS Teams
DESCRIPTION:Monthly Operations Meeting
DTSTART:20260915T010000Z
DTEND:20260915T023000Z
DTSTAMP:20260112T065256Z
ORGANIZER;CN=PMI Arizona Chapter:MAILTO:info@pmiaz.org
END:VEVENT
END:VCALENDAR