BEGIN:VCALENDAR
VERSION:2.0
PRODID:Events Booking
BEGIN:VEVENT
UID:69e5b0adcbcd2
SUMMARY:PMI-ACP Credential Study Group (2/21/26-3/28/26)
DESCRIPTION:The study group is free for PMI Arizona members seeking their P
 MI-ACP. If you are not a member\, participating in this series will cost $
 50. Please note that if you are an existing PMI member but not affiliated 
 with the PMI Arizona Chapter\, you can join here for the chapter rate of $
 40.
DTSTART:20260328T160000Z
DTEND:20260328T183000Z
DTSTAMP:20251217T052058Z
ORGANIZER;CN=PMI Arizona Chapter:MAILTO:info@pmiaz.org
END:VEVENT
END:VCALENDAR