BEGIN:VCALENDAR
VERSION:2.0
PRODID:Events Booking
BEGIN:VEVENT
UID:69e5e2bebc392
SUMMARY:Resume Clinic
DESCRIPTION:Join our Resume Clinic\, an interactive session designed to hel
 p you optimize and strengthen your resume for today's competitive job mark
 et. Cynthia will do a hands-on review of your résumé\, offer actionable 
 recommendations to align it with applicant tracking systems (ATS)\, and sh
 are best practices for effectively highlighting your unique skills and acc
 omplishments. A strong\, polished resume not only increases your chances o
 f landing interviews but also serves as a valuable tool for networking and
  confidently articulating your qualifications during interviews.
DTSTART:20250813T010000Z
DTEND:20250813T020000Z
DTSTAMP:20250612T001713Z
ORGANIZER;CN=PMI Arizona Chapter:MAILTO:info@pmiaz.org
END:VEVENT
END:VCALENDAR