BEGIN:VCALENDAR
VERSION:2.0
PRODID:Events Booking
BEGIN:VEVENT
UID:69ea332e76676
SUMMARY:Virtual: Resume Clinic
DESCRIPTION:Join the Resume Clinic\, a 60-minute interactive session desig
 ned to help you optimize your profile and strengthen yrou resume for today
 's competitive job market.  Led by Cynthia Maria Estalilla\, a Certified
  Professional Career Coach and Digital Branding Strategist\, will do a han
 ds-on review of your resume\, offer actionable recommendations to align wi
 th applicant tracking systems (ATS)\, and share best practices for effecti
 vely highlighting your skills and accomplishments. Reserve your spot toda
 y!
DTSTART:20260415T010000Z
DTEND:20260415T020000Z
DTSTAMP:20260217T004159Z
ORGANIZER;CN=PMI Arizona Chapter:MAILTO:info@pmiaz.org
END:VEVENT
END:VCALENDAR